BEGIN:VCALENDAR
VERSION:2.0
PRODID:-//iQ.Training - ECPv6.3.7//NONSGML v1.0//EN
CALSCALE:GREGORIAN
METHOD:PUBLISH
X-ORIGINAL-URL:https://iq.training
X-WR-CALDESC:Events for iQ.Training
REFRESH-INTERVAL;VALUE=DURATION:PT1H
X-Robots-Tag:noindex
X-PUBLISHED-TTL:PT1H
BEGIN:VTIMEZONE
TZID:UTC
BEGIN:STANDARD
TZOFFSETFROM:+0000
TZOFFSETTO:+0000
TZNAME:UTC
DTSTART:20190101T000000
END:STANDARD
END:VTIMEZONE
BEGIN:VEVENT
DTSTART;VALUE=DATE:20190212
DTEND;VALUE=DATE:20190213
DTSTAMP:20260425T153145
CREATED:20181113T161811Z
LAST-MODIFIED:20181113T161811Z
UID:1175-1549929600-1550015999@iq.training
SUMMARY:ISO 45001:2018 Deltas - An Overview of the Standard and Differences from OHSAS 18001:2007
DESCRIPTION:COURSE CONTENT\nSRI has organized this one-day training class to assist organizations that want to convert their existing OHSAS 18001 occupational health and safety (OH&S) management system to the new ISO 45001:2018 standard. This class is intended for management personnel responsible for establishing or maintaining the OH&S management system. The new standard is structured in the same uniform structure used for ISO 9001 and ISO 14001\, enabling integrated management activities such as internal auditing and management reviews. The new standard also integrates risk identification and change management to create a dynamic OH&S system that keeps pace with organizational changes. ISO 45001 moves from a reactive system responding to past concerns to a proactive system that anticipates future risk and develops plans to mitigate that risk. It also uses a more participative strategy to involve interested parties in planning. \nWHO SHOULD ATTEND\nEnvironmental Management System professionals and auditors who wish to upgrade their capabilities to apply ISO 45001:2018. OH&S and Environmental professionals who want to apply their auditing skills to management system audits\, and Experienced Quality Management System Auditors who wish to extend their knowledge to ISO 45001:2018 would also benefit from this class. \nPREREQUISITES\nAttendees are required to have read and be familiar with the ISO 45001:2018 standard. \nMATERIALS\nAttendees will be provided with a binder of presentation material. Attendees are required to bring their own copy of the ISO 45001:2018 standard. Standards will be available for purchase during the registration process. \nLEARNING OBJECTIVES\n\nISO 45001:2018 Background\nISO 45001:2018 Standard and Implementation Overview\n\nBreakdown of the clauses\nComparison of OHSAS 18001:2007 clauses to the ISO 45001:2018
URL:https://iq.training/course/iso-450012018-deltas-an-overview-of-the-standard-and-differences-from-ohsas-180012007-3/
LOCATION:DoubleTree Cleveland-Westlake\, 1100 Crocker Road\, Westlake\, OH\, 44145\, United States
CATEGORIES:ISO 45001 (Health and Safety),SRI Registrar
ORGANIZER;CN="Erica Jackson":MAILTO:ejackson@iq.training
END:VEVENT
END:VCALENDAR